BEGIN:VCALENDAR
VERSION:2.0
PRODID:Events Booking
BEGIN:VEVENT
UID:69ea472753070
SUMMARY:ILEAP Aspire Drama Club:Tuesdays at The Sydni Centre: Spring Term: 
 8 -18 years: 18.30 -19.45pm 
DESCRIPTION:Join the Tessa\, Jordan and Louise for this fantastic Drama ses
 sion at this brilliant venue for ILEAP Members aged 8 - 16 years
 It will
  be the highlight of your week and will bring you on in ILEAPS and Bounds!
 . &nbsp\;
 You are booking for the Spring term 2024
LOCATION:Cottage Square\, Leamington Spa CV31 1PT\, UK
DTSTART:20240116T183000Z
DTEND:20240116T194500Z
DTSTAMP:20211028T080113Z
ORGANIZER;CN=ILEAP Charity:MAILTO:sparkle@ileap.co.uk
GEO:52.281336;-1.514425
X-APPLE-STRUCTURED-LOCATION;VALUE=URI;X-ADDRESS=Cottage Square\, Leamington
  Spa CV31 1PT\, UK;X-APPLE-RADIUS=72;X-TITLE=The Sydni Centre:52.281336;-1
 .514425
END:VEVENT
END:VCALENDAR