BEGIN:VCALENDAR
VERSION:2.0
PRODID:Events Booking
BEGIN:VEVENT
UID:69e68e5a3804d
SUMMARY:*Friday Afternoon Ten Pin Bowling: Feb Half Term 2026: 16 yrs and o
 ver 
DESCRIPTION:you are booking for the Feb Half Term Holiday 2026
 &nbsp\;Bes
 t Day of the Week
 Enjoy 2 games of bowling and a meal!&nbsp\;
 Before t
 he session we will are dancing at the Kenilworth Centre before heading off
  in a taxi to Ten Pin bowling ( Book seperately)&nbsp\;
 We are expecting
  a full house so you'll need to book early
 Session runs every Friday thr
 oughout the year&nbsp\;
 Remember you can donate and or fundraise for the
  ILEAP Charity at www.justgiving.com/ileap&nbsp\;
 &nbsp\;&nbsp\;
 &nbsp
 \;
LOCATION:Royal Leamington Spa\, Warwick CV34 6RH\, UK
DTSTART:20260220T123000Z
DTEND:20260220T143000Z
DTSTAMP:20250905T145433Z
ORGANIZER;CN=ILEAP Charity:MAILTO:sparkle@ileap.co.uk
GEO:52.279158;-1.545272
X-APPLE-STRUCTURED-LOCATION;VALUE=URI;X-ADDRESS=Royal Leamington Spa\, Warw
 ick CV34 6RH\, UK;X-APPLE-RADIUS=72;X-TITLE=Ten Pin 10\, Megabowl:52.27915
 8;-1.545272
END:VEVENT
END:VCALENDAR