BEGIN:VCALENDAR
VERSION:2.0
PRODID:Events Booking
BEGIN:VEVENT
UID:69e8856056fa2
SUMMARY:ILEAP to Warwick Castle for a Summer Adventure: 16 years and over 
DESCRIPTION:&nbsp\;Summer Holiday Fun at Warwick Castle&nbsp\;
 Its always
  a great day at Warwick Castle\, youll have so much fun it will be Histori
 cal!
 Dress for the weather\,&nbsp\;
 Bring a packed lunch &nbsp\;and a 
 drink and some money for the cafe and gift shop.
 We will follow the itin
 erary and see all the sights. Its a little medieval underfoot with cobbles
  and some uneven ground so whear sensible footwear.
 Apply sunscreen befo
 re the session and wear a sun hat.
LOCATION:Warwick\, CV34 4QU
DTSTART:20250804T093000Z
DTEND:20250804T140000Z
DTSTAMP:20260422T092256Z
ORGANIZER;CN=ILEAP Charity:MAILTO:sparkle@ileap.co.uk
GEO:52.279915;-1.585475
X-APPLE-STRUCTURED-LOCATION;VALUE=URI;X-ADDRESS=Warwick\, CV34 4QU;X-APPLE-
 RADIUS=72;X-TITLE=Warwick Castle:52.279915;-1.585475
END:VEVENT
END:VCALENDAR