BEGIN:VCALENDAR
VERSION:2.0
PRODID:Events Booking
BEGIN:VEVENT
UID:69e61b8de0e4e
SUMMARY:ILEAP to Vue for a great Movie in Summer Holidays 2025\,  for 12 ye
 ars and over 
DESCRIPTION:Price includes Cinema Ticket
 Bring £ for popcorn / drinks or
  bring your own!
 We will confirm the film and the time nearer the time

  Why not book for the afternoon Canoe / Kayak &nbsp\;session at 1pm\, brin
 g a packed lunch and spend the whole day with us\, we will support you ove
 r lunch!
LOCATION:Portland Place\, Leamington Spa CV32 5ET\, UK
DTSTART:20250820T090000Z
DTEND:20250820T113000Z
DTSTAMP:20260420T132653Z
ORGANIZER;CN=ILEAP Charity:MAILTO:sparkle@ileap.co.uk
GEO:52.288839;-1.53832
X-APPLE-STRUCTURED-LOCATION;VALUE=URI;X-ADDRESS=Portland Place\, Leamington
  Spa CV32 5ET\, UK;X-APPLE-RADIUS=72;X-TITLE=Vue Cinema:52.288839;-1.53832
END:VEVENT
END:VCALENDAR