BEGIN:VCALENDAR
VERSION:2.0
PRODID:Events Booking
BEGIN:VEVENT
UID:69e8884f91cd3
SUMMARY:ILEAP Holiday Games Sessions
DESCRIPTION:
LOCATION:137 Regent Street\, Leamington Spa\, CV32 4NX
DTSTART:20250813T100000Z
DTEND:20250813T113000Z
DTSTAMP:20260422T093527Z
ORGANIZER;CN=ILEAP Charity:MAILTO:sparkle@ileap.co.uk
GEO:52.290657;-1.532863
X-APPLE-STRUCTURED-LOCATION;VALUE=URI;X-ADDRESS=137 Regent Street\, Leaming
 ton Spa\, CV32 4NX;X-APPLE-RADIUS=72;X-TITLE=The Dice Box:52.290657;-1.532
 863
END:VEVENT
END:VCALENDAR