BEGIN:VCALENDAR
VERSION:2.0
PRODID:Events Booking
BEGIN:VEVENT
UID:69e88891c0a76
SUMMARY:ILEAP Friday Morning Dance: Summer Holiday 2025: 16 yrs and over 
DESCRIPTION:you are booking for the Summer Holiday 2025
 End the week in s
 tyle with this funky Dance session with Nicola
 We start the day with a r
 elaxed chat\, moving in gently to a relaxed dance session with Nicola slow
 ly building the tempo to all your favourite tunes!&nbsp\;
 After the sess
 ion we will head off in a taxi to Ten Pin bowling
 (Book seperately)&nbsp
 \;
 We are expecting a full house so you'll need to book early&nbsp\;
 S
 ession runs every Friday through out the year
 Remember you can donate an
 d or fundraise for the ILEAP Charity at www.justgiving.com/ileap&nbsp\;
 
 You can purchase our fantastic Marketability products from our website www
 .ileap.co.uk &nbsp\;
 &nbsp\;
LOCATION:Abbey End Car Park\, Abbey End\, Kenilworth CV8 1JP
DTSTART:20250801T090000Z
DTEND:20250801T110000Z
DTSTAMP:20211028T085807Z
ORGANIZER;CN=ILEAP Charity:MAILTO:sparkle@ileap.co.uk
GEO:52.344216;-1.578651
X-APPLE-STRUCTURED-LOCATION;VALUE=URI;X-ADDRESS=Abbey End Car Park\, Abbey 
 End\, Kenilworth CV8 1JP;X-APPLE-RADIUS=72;X-TITLE=The Kenilworth Centre:5
 2.344216;-1.578651
END:VEVENT
END:VCALENDAR