BEGIN:VCALENDAR
VERSION:2.0
PRODID:Events Booking
BEGIN:VEVENT
UID:69e4d827b0330
SUMMARY:Childrens Activity: Jump In Trampoline Session\, 4 - 12 years 
DESCRIPTION:
LOCATION:Tachbrook Park\, Hermes CI\, Royal Leamington Spa\, CV34 6NW
DTSTART:20200221T103000Z
DTEND:20200221T123000Z
DTSTAMP:20260419T142703Z
ORGANIZER;CN=ILEAP Charity:MAILTO:sparkle@ileap.co.uk
GEO:52.276298;-1.54188
X-APPLE-STRUCTURED-LOCATION;VALUE=URI;X-ADDRESS=Tachbrook Park\, Hermes CI\
 , Royal Leamington Spa\, CV34 6NW;X-APPLE-RADIUS=72;X-TITLE=Jump In Trampo
 line Centre:52.276298;-1.54188
END:VEVENT
END:VCALENDAR