BEGIN:VCALENDAR
VERSION:2.0
PRODID:Events Booking
BEGIN:VEVENT
UID:69e4d9d6a358d
SUMMARY:Childrens Activity: Hatton Country World\, 4 -12  years and over
DESCRIPTION:
LOCATION:Dark Lane\, Hatton\,  CV35 8XA
DTSTART:20200217T110000Z
DTEND:20200217T140000Z
DTSTAMP:20260419T143414Z
ORGANIZER;CN=ILEAP Charity:MAILTO:sparkle@ileap.co.uk
GEO:52.293584;-1.655767
X-APPLE-STRUCTURED-LOCATION;VALUE=URI;X-ADDRESS=Dark Lane\, Hatton\,  CV35 
 8XA;X-APPLE-RADIUS=72;X-TITLE=Hatton Adventure World:52.293584;-1.655767
END:VEVENT
END:VCALENDAR