BEGIN:VCALENDAR
VERSION:2.0
PRODID:Events Booking
BEGIN:VEVENT
UID:69e4e50fbe797
SUMMARY:Alcester Jr. Summer Sparkle for ages 6-11 years
DESCRIPTION:A new session to introduce ILEAP to children aged 6-11 years ol
 d!
 Week one is 23rd July – Puppet and ventriloquist workshop.
 ILEAP 
 staff will lead the group in making and personalising your very own puppet
 . &nbsp\;After a quick motor movement break\, we will be joined by preside
 nt of the Warwickshire Magic Association for a drama-based activity focusi
 ng on emotions. &nbsp\;We will learn how to project our voice\, like a ven
 triloquist and use our puppets to help us practice these new skills!
 Wit
 h thanks to Alcester Town Council\, we are running 3 taster sessions in Al
 cester. &nbsp\;The staff at Eric Payne Centre will put out tables and chai
 rs on the patio so parents can chill out and have a chat if you do not fee
 l comfortable leaving the site.
 So\, come along and experience the ILEAP
  sparkle for yourself!
 &nbsp\;
LOCATION:Alcester B49 6AG\, UK
DTSTART:20240723T123000Z
DTEND:20240723T143000Z
DTSTAMP:20240604T142453Z
ORGANIZER;CN=ILEAP Charity:MAILTO:sparkle@ileap.co.uk
GEO:52.220013;-1.870596
X-APPLE-STRUCTURED-LOCATION;VALUE=URI;X-ADDRESS=Alcester B49 6AG\, UK;X-APP
 LE-RADIUS=72;X-TITLE=Eric Payne Community Centre:52.220013;-1.870596
END:VEVENT
END:VCALENDAR