BEGIN:VCALENDAR
VERSION:2.0
PRODID:Events Booking
BEGIN:VEVENT
UID:69e4e506845f8
SUMMARY:Alcester Jr. Summer Sparkle for ages 6-11 years 
DESCRIPTION:A new session to introduce ILEAP to children aged 6-11 years ol
 d!
 Week three is 29th August – Magic Workshop
 ILEAP staff will lead 
 the group in some non-competitive games. &nbsp\;After a quick break\, we w
 ill be joined by president of the Warwickshire Magic Association and we wi
 ll split into 2 groups. &nbsp\;Each group will have a tutorial to learn a 
 magic trick allowing time to perfect it to share with friends and family. 
 &nbsp\;Afterwards\, we will enjoy a magic show to wow and amaze!
 With th
 anks to Alcester Town Council\, we are running 3 taster sessions in Alcest
 er. &nbsp\;The staff at Eric Payne Centre will put out tables and chairs o
 n the patio so parents can chill out and have a chat if you do not feel co
 mfortable leaving the site.
 So\, come along and experience the ILEAP spa
 rkle for yourself!
 &nbsp\;
LOCATION:Alcester B49 6AG\, UK
DTSTART:20240829T123000Z
DTEND:20240829T143000Z
DTSTAMP:20240604T142453Z
ORGANIZER;CN=ILEAP Charity:MAILTO:sparkle@ileap.co.uk
GEO:52.220013;-1.870596
X-APPLE-STRUCTURED-LOCATION;VALUE=URI;X-ADDRESS=Alcester B49 6AG\, UK;X-APP
 LE-RADIUS=72;X-TITLE=Eric Payne Community Centre:52.220013;-1.870596
END:VEVENT
END:VCALENDAR